BEGIN:VCALENDAR
VERSION:2.0
PRODID:-//pbr-art - ECPv6.5.1.4//NONSGML v1.0//EN
CALSCALE:GREGORIAN
METHOD:PUBLISH
X-ORIGINAL-URL:https://pbr-art.nl
X-WR-CALDESC:Evenementen voor pbr-art
REFRESH-INTERVAL;VALUE=DURATION:PT1H
X-Robots-Tag:noindex
X-PUBLISHED-TTL:PT1H
BEGIN:VTIMEZONE
TZID:Europe/Amsterdam
BEGIN:DAYLIGHT
TZOFFSETFROM:+0100
TZOFFSETTO:+0200
TZNAME:CEST
DTSTART:20220327T010000
END:DAYLIGHT
BEGIN:STANDARD
TZOFFSETFROM:+0200
TZOFFSETTO:+0100
TZNAME:CET
DTSTART:20221030T010000
END:STANDARD
END:VTIMEZONE
BEGIN:VEVENT
DTSTART;TZID=Europe/Amsterdam:20220911T100000
DTEND;TZID=Europe/Amsterdam:20220911T170000
DTSTAMP:20260425T160953
CREATED:20220616T173331Z
LAST-MODIFIED:20220616T173331Z
UID:890-1662890400-1662915600@pbr-art.nl
SUMMARY:Winandus Markt Catsop
DESCRIPTION:Het gehucht Catsop\, horend bij het dorp Elsloo (LB)\, staat iedere twee jaar op de tweede zondag van september in het teken van de Winandus Markt Catsop. Een kunstmarkt die inmiddels bekend staat om zijn kwaliteit en diversiteit. De kunstenaars komen zowel uit de regio als ver daarbuiten en presenteren hun werk op stands in een van de sfeervolle straten\, authentieke binnenplaatsen en rondom het pittoreske ‘pleintje Op de Dries’. Het bijzondere ‘Place du Tetre’ gevoel komt hier tot leven!\nWelk gehucht of buurtschap kan bogen op 4 kunstwerken op het compacte en gezellige parcours. En als u weet dat omroep L1 dit parcours op de lijst heeft staan voor de Einzelgängeroptocht in enig jaar\, dan is een bezoek meer dan waard en weet u dat het heel gezellig wordt: \nKijk op de volgende pagina’s voor de historie\, programma\,  informatie\, deelname\,  en fotoboek. \nSpecifieke informatie voor bezoekers: zie tabblad “informatie”; voor deelnemers zie tabblad “deelname”. \nDe organisatie van de Winandus Markt Catsop geschiedt onder verantwoordelijkheid van Buurtvereniging Catsop.
URL:https://pbr-art.nl/event/winandus-markt-catsop/
LOCATION:Catsop
ATTACH;FMTTYPE=image/png:https://pbr-art.nl/wp-content/uploads/2022/06/winandus.png
END:VEVENT
END:VCALENDAR